BEGIN:VCALENDAR
VERSION:2.0
PRODID:ics.py 0.8.0-dev0 - http://git.io/lLljaA
BEGIN:VEVENT
DTSTART:20250620T143000Z
DTEND:20250620T150000Z
SUMMARY:Narwhals Community Call
UID:3c0b52d1-452c-4020-926d-5f0d3bcc630e@3c0b.org
DESCRIPTION:Community call happening every 4 weeks on Fridays. All welcome 
 to attend!\n\nMeeting notes:  https://hackmd.io/@mntOORP3TCesJJyvg-
 IdFQ/BklDRGAM1e
URL:https://meet.google.com/igm-dtqg-mrz
DTSTAMP:20260317T175243Z
RRULE:FREQ=WEEKLY;INTERVAL=4;UNTIL=20260701T000000
END:VEVENT
BEGIN:VEVENT
DTSTART:20250613T140000Z
DTEND:20250613T160000Z
SUMMARY:Narwhals Live Stream
UID:a6478038-c606-4967-b625-a1107d1eac4f@a647.org
DESCRIPTION:Narwhals development livestream. Join us as we develop 
 it!\nChat\, ask questions\, or just follow along.
URL:https://www.youtube.com/@quansight/streams
DTSTAMP:20260317T175243Z
RRULE:FREQ=WEEKLY;INTERVAL=2;UNTIL=20260701T000000
END:VEVENT
BEGIN:VEVENT
DTSTART:20250606T150000Z
DTEND:20250606T160000Z
SUMMARY:Narwhals Study Group
UID:f1eac176-0852-4307-8f4a-636297149913@f1ea.org
DESCRIPTION:Biweekly study group meeting. All are welcome!\n\nOur study 
 group aims to deepen our understanding of Narwhals.\nEach week\, we share 
 issues we've tackled or projects we've "narwhalified."
URL:https://meet.google.com/rce-kzwp-opa
DTSTAMP:20260317T175243Z
RRULE:FREQ=WEEKLY;INTERVAL=2;UNTIL=20260701T000000
END:VEVENT
BEGIN:VEVENT
DTSTART:20250613T130000Z
DTEND:20250613T140000Z
SUMMARY:Narwhals Study Group
UID:f778ef07-79e1-4de6-a0b6-7a1cccce024a@f778.org
DESCRIPTION:Biweekly study group meeting. All are welcome!\n\nOur study 
 group aims to deepen our understanding of Narwhals.\nEach week\, we share 
 issues we've tackled or projects we've "narwhalified."
URL:https://meet.google.com/rce-kzwp-opa
DTSTAMP:20260317T175243Z
RRULE:FREQ=WEEKLY;INTERVAL=2;UNTIL=20260701T000000
END:VEVENT
NAME:Narwhals Community Calendar
X-WR-CALNAME:Narwhals Community Calendar
END:VCALENDAR
